BEGIN:VCALENDAR
VERSION:2.0
PRODID:-//www.schulehindelbank.ch//NONSGML kigkonsult.se iCalcreator 2.22//
CALSCALE:GREGORIAN
METHOD:PUBLISH
X-WR-TIMEZONE:Europe/Berlin
BEGIN:VEVENT
UID:20260424T101940CEST-4238G9a9bs@www.schulehindelbank.ch
DTSTAMP:20260424T081940Z
DESCRIPTION:Klicken Sie auf den folgenden Link\, um weitere Informationen z
 ur Veranstaltung zu erhalten:\nhttp://www.schulehindelbank.ch/de/veranstal
 tungen/detail/detail.php?i=2295
DTSTART:20260702T000000
LOCATION:Schulareal
SUMMARY:Schulfest Schule Hindelbank
END:VEVENT
END:VCALENDAR
